BEGIN:VCALENDAR
VERSION:2.0
PRODID:-//Mount Pleasant Primary School - ECPv6.15.20//NONSGML v1.0//EN
CALSCALE:GREGORIAN
METHOD:PUBLISH
X-ORIGINAL-URL:https://mountpleasantps.wa.edu.au
X-WR-CALDESC:Events for Mount Pleasant Primary School
REFRESH-INTERVAL;VALUE=DURATION:PT1H
X-Robots-Tag:noindex
X-PUBLISHED-TTL:PT1H
BEGIN:VTIMEZONE
TZID:Australia/Perth
BEGIN:STANDARD
TZOFFSETFROM:+0800
TZOFFSETTO:+0800
TZNAME:AWST
DTSTART:20230101T000000
END:STANDARD
END:VTIMEZONE
BEGIN:VEVENT
DTSTART;VALUE=DATE:20241104
DTEND;VALUE=DATE:20241116
DTSTAMP:20260426T012029
CREATED:20241016T123615Z
LAST-MODIFIED:20241016T123615Z
UID:9922-1730678400-1731715199@mountpleasantps.wa.edu.au
SUMMARY:Swimming Lessons Year 3 & 4
DESCRIPTION:
URL:https://mountpleasantps.wa.edu.au/calendar/swimming-lessons-year-3-4/
END:VEVENT
BEGIN:VEVENT
DTSTART;VALUE=DATE:20241101
DTEND;VALUE=DATE:20241102
DTSTAMP:20260426T012029
CREATED:20241016T123543Z
LAST-MODIFIED:20241016T123543Z
UID:9920-1730419200-1730505599@mountpleasantps.wa.edu.au
SUMMARY:Junior Assembly Room 15 & 16
DESCRIPTION:
URL:https://mountpleasantps.wa.edu.au/calendar/junior-assembly-room-15-16/
END:VEVENT
BEGIN:VEVENT
DTSTART;TZID=Australia/Perth:20241030T190000
DTEND;TZID=Australia/Perth:20241030T200000
DTSTAMP:20260426T012029
CREATED:20241016T123444Z
LAST-MODIFIED:20241016T123444Z
UID:9914-1730314800-1730318400@mountpleasantps.wa.edu.au
SUMMARY:P&C Meeting 7pm Staff room
DESCRIPTION:
URL:https://mountpleasantps.wa.edu.au/calendar/pc-meeting-7pm-staff-room/
END:VEVENT
BEGIN:VEVENT
DTSTART;VALUE=DATE:20241030
DTEND;VALUE=DATE:20241102
DTSTAMP:20260426T012029
CREATED:20241016T123419Z
LAST-MODIFIED:20241016T123518Z
UID:9912-1730246400-1730505599@mountpleasantps.wa.edu.au
SUMMARY:Year 6 Camp Woodman Point
DESCRIPTION:
URL:https://mountpleasantps.wa.edu.au/calendar/year-6-camp-woodman-point/
END:VEVENT
BEGIN:VEVENT
DTSTART;VALUE=DATE:20241028
DTEND;VALUE=DATE:20241029
DTSTAMP:20260426T012029
CREATED:20241016T123357Z
LAST-MODIFIED:20241016T123357Z
UID:9910-1730073600-1730159999@mountpleasantps.wa.edu.au
SUMMARY:MDISSA Athletics Interschool Carnival Year 3-6
DESCRIPTION:
URL:https://mountpleasantps.wa.edu.au/calendar/mdissa-athletics-interschool-carnival-year-3-6/
END:VEVENT
BEGIN:VEVENT
DTSTART;VALUE=DATE:20241018
DTEND;VALUE=DATE:20241019
DTSTAMP:20260426T012029
CREATED:20241016T123257Z
LAST-MODIFIED:20241016T123257Z
UID:9908-1729209600-1729295999@mountpleasantps.wa.edu.au
SUMMARY:Senior Assembly Room 19 and the P&C Disco
DESCRIPTION:
URL:https://mountpleasantps.wa.edu.au/calendar/senior-assembly-room-19-and-the-pc-disco/
END:VEVENT
BEGIN:VEVENT
DTSTART;VALUE=DATE:20241009
DTEND;VALUE=DATE:20241011
DTSTAMP:20260426T012029
CREATED:20241016T123223Z
LAST-MODIFIED:20241016T123223Z
UID:9906-1728432000-1728604799@mountpleasantps.wa.edu.au
SUMMARY:Indigenous Tours WA Incursion K - Year 3
DESCRIPTION:
URL:https://mountpleasantps.wa.edu.au/calendar/indigenous-tours-wa-incursion-k-year-3/
END:VEVENT
BEGIN:VEVENT
DTSTART;VALUE=DATE:20241008
DTEND;VALUE=DATE:20241009
DTSTAMP:20260426T012029
CREATED:20241016T120105Z
LAST-MODIFIED:20241016T120105Z
UID:9901-1728345600-1728431999@mountpleasantps.wa.edu.au
SUMMARY:First Day Back for Students
DESCRIPTION:
URL:https://mountpleasantps.wa.edu.au/calendar/first-day-back-for-students/
END:VEVENT
BEGIN:VEVENT
DTSTART;VALUE=DATE:20241007
DTEND;VALUE=DATE:20241008
DTSTAMP:20260426T012029
CREATED:20241016T120030Z
LAST-MODIFIED:20241016T120030Z
UID:9899-1728259200-1728345599@mountpleasantps.wa.edu.au
SUMMARY:Teacher Development Day
DESCRIPTION:
URL:https://mountpleasantps.wa.edu.au/calendar/teacher-development-day/
END:VEVENT
END:VCALENDAR