BEGIN:VCALENDAR
VERSION:2.0
PRODID:-//Mount Pleasant Primary School - ECPv6.15.20//NONSGML v1.0//EN
CALSCALE:GREGORIAN
METHOD:PUBLISH
X-ORIGINAL-URL:https://mountpleasantps.wa.edu.au
X-WR-CALDESC:Events for Mount Pleasant Primary School
REFRESH-INTERVAL;VALUE=DURATION:PT1H
X-Robots-Tag:noindex
X-PUBLISHED-TTL:PT1H
BEGIN:VTIMEZONE
TZID:Australia/Perth
BEGIN:STANDARD
TZOFFSETFROM:+0800
TZOFFSETTO:+0800
TZNAME:AWST
DTSTART:20230101T000000
END:STANDARD
END:VTIMEZONE
BEGIN:VEVENT
DTSTART;VALUE=DATE:20250310
DTEND;VALUE=DATE:20250315
DTSTAMP:20260425T212103
CREATED:20250308T110253Z
LAST-MODIFIED:20250308T110253Z
UID:10148-1741564800-1741996799@mountpleasantps.wa.edu.au
SUMMARY:Yr 6 Beach Swimming Lessons
DESCRIPTION:
URL:https://mountpleasantps.wa.edu.au/calendar/yr-6-beach-swimming-lessons/
CATEGORIES:School Events
END:VEVENT
BEGIN:VEVENT
DTSTART;VALUE=DATE:20250307
DTEND;VALUE=DATE:20250308
DTSTAMP:20260425T212103
CREATED:20250308T110220Z
LAST-MODIFIED:20250308T110220Z
UID:10146-1741305600-1741391999@mountpleasantps.wa.edu.au
SUMMARY:Junior Assembly Room 9
DESCRIPTION:
URL:https://mountpleasantps.wa.edu.au/calendar/junior-assembly-room-9/
CATEGORIES:School Events
END:VEVENT
BEGIN:VEVENT
DTSTART;VALUE=DATE:20250304
DTEND;VALUE=DATE:20250308
DTSTAMP:20260425T212103
CREATED:20250308T110153Z
LAST-MODIFIED:20250308T110153Z
UID:10144-1741046400-1741391999@mountpleasantps.wa.edu.au
SUMMARY:Yr 5 Beach Swimming Lessons
DESCRIPTION:
URL:https://mountpleasantps.wa.edu.au/calendar/yr-5-beach-swimming-lessons/
CATEGORIES:School Events
END:VEVENT
BEGIN:VEVENT
DTSTART;VALUE=DATE:20250303
DTEND;VALUE=DATE:20250304
DTSTAMP:20260425T212103
CREATED:20250308T110127Z
LAST-MODIFIED:20250308T110127Z
UID:10142-1740960000-1741046399@mountpleasantps.wa.edu.au
SUMMARY:Public Holiday - Labour Day
DESCRIPTION:
URL:https://mountpleasantps.wa.edu.au/calendar/public-holiday-labour-day/
CATEGORIES:Public Holidays
END:VEVENT
BEGIN:VEVENT
DTSTART;TZID=Australia/Perth:20250226T190000
DTEND;TZID=Australia/Perth:20250226T200000
DTSTAMP:20260425T212103
CREATED:20250308T110050Z
LAST-MODIFIED:20250308T110050Z
UID:10140-1740596400-1740600000@mountpleasantps.wa.edu.au
SUMMARY:P&C Meeting 7pm staffroom
DESCRIPTION:
URL:https://mountpleasantps.wa.edu.au/calendar/pc-meeting-7pm-staffroom/
CATEGORIES:School Events
END:VEVENT
BEGIN:VEVENT
DTSTART;VALUE=DATE:20250221
DTEND;VALUE=DATE:20250222
DTSTAMP:20260425T212103
CREATED:20250308T110007Z
LAST-MODIFIED:20250308T110007Z
UID:10138-1740096000-1740182399@mountpleasantps.wa.edu.au
SUMMARY:Senior Assembly Room 18
DESCRIPTION:
URL:https://mountpleasantps.wa.edu.au/calendar/senior-assembly-room-18/
CATEGORIES:School Events
END:VEVENT
BEGIN:VEVENT
DTSTART;VALUE=DATE:20250219
DTEND;VALUE=DATE:20250220
DTSTAMP:20260425T212103
CREATED:20250308T105940Z
LAST-MODIFIED:20250308T105940Z
UID:10136-1739923200-1740009599@mountpleasantps.wa.edu.au
SUMMARY:Parent Open Afternoon
DESCRIPTION:
URL:https://mountpleasantps.wa.edu.au/calendar/parent-open-afternoon/
CATEGORIES:School Events
END:VEVENT
BEGIN:VEVENT
DTSTART;VALUE=DATE:20250214
DTEND;VALUE=DATE:20250215
DTSTAMP:20260425T212103
CREATED:20250308T105910Z
LAST-MODIFIED:20250308T105910Z
UID:10134-1739491200-1739577599@mountpleasantps.wa.edu.au
SUMMARY:Music Incursion Year 3-6
DESCRIPTION:
URL:https://mountpleasantps.wa.edu.au/calendar/music-incursion-year-3-6/
CATEGORIES:School Events
END:VEVENT
BEGIN:VEVENT
DTSTART;VALUE=DATE:20250205
DTEND;VALUE=DATE:20250206
DTSTAMP:20260425T212103
CREATED:20241016T124854Z
LAST-MODIFIED:20241016T124854Z
UID:9974-1738713600-1738799999@mountpleasantps.wa.edu.au
SUMMARY:Term 1 begins for students
DESCRIPTION:
URL:https://mountpleasantps.wa.edu.au/calendar/term-1-begins-for-students/
END:VEVENT
BEGIN:VEVENT
DTSTART;VALUE=DATE:20241213
DTEND;VALUE=DATE:20250205
DTSTAMP:20260425T212103
CREATED:20250115T092017Z
LAST-MODIFIED:20250115T092017Z
UID:10058-1734048000-1738713599@mountpleasantps.wa.edu.au
SUMMARY:End of term 4 break 2024
DESCRIPTION:
URL:https://mountpleasantps.wa.edu.au/calendar/end-of-term-4-break-2024/
CATEGORIES:Term Breaks
END:VEVENT
BEGIN:VEVENT
DTSTART;VALUE=DATE:20241213
DTEND;VALUE=DATE:20241214
DTSTAMP:20260425T212103
CREATED:20241016T124801Z
LAST-MODIFIED:20241016T124801Z
UID:9972-1734048000-1734134399@mountpleasantps.wa.edu.au
SUMMARY:Teacher Development Day
DESCRIPTION:Students do not attend school today.
URL:https://mountpleasantps.wa.edu.au/calendar/teacher-development-day-2/
END:VEVENT
BEGIN:VEVENT
DTSTART;TZID=Australia/Perth:20241212T120000
DTEND;TZID=Australia/Perth:20241212T140000
DTSTAMP:20260425T212103
CREATED:20241016T124720Z
LAST-MODIFIED:20241016T124720Z
UID:9970-1734004800-1734012000@mountpleasantps.wa.edu.au
SUMMARY:Last Day for Students Assembly 12-2pm
DESCRIPTION:
URL:https://mountpleasantps.wa.edu.au/calendar/last-day-for-students-assembly-12-2pm/
END:VEVENT
BEGIN:VEVENT
DTSTART;VALUE=DATE:20241211
DTEND;VALUE=DATE:20241212
DTSTAMP:20260425T212103
CREATED:20241016T124633Z
LAST-MODIFIED:20241016T124633Z
UID:9968-1733875200-1733961599@mountpleasantps.wa.edu.au
SUMMARY:Year 6 Dinner Dance
DESCRIPTION:
URL:https://mountpleasantps.wa.edu.au/calendar/year-6-dinner-dance/
END:VEVENT
BEGIN:VEVENT
DTSTART;VALUE=DATE:20241206
DTEND;VALUE=DATE:20241207
DTSTAMP:20260425T212103
CREATED:20241016T124607Z
LAST-MODIFIED:20241016T124607Z
UID:9966-1733443200-1733529599@mountpleasantps.wa.edu.au
SUMMARY:P&C End of Year Picnic 4-7pm
DESCRIPTION:
URL:https://mountpleasantps.wa.edu.au/calendar/pc-end-of-year-picnic-4-7pm/
END:VEVENT
BEGIN:VEVENT
DTSTART;VALUE=DATE:20241206
DTEND;VALUE=DATE:20241207
DTSTAMP:20260425T212103
CREATED:20241016T124543Z
LAST-MODIFIED:20241016T124543Z
UID:9964-1733443200-1733529599@mountpleasantps.wa.edu.au
SUMMARY:Kindy 1B Concert & Family Picnic 2.10pm
DESCRIPTION:
URL:https://mountpleasantps.wa.edu.au/calendar/kindy-1b-concert-family-picnic-2-10pm/
END:VEVENT
BEGIN:VEVENT
DTSTART;VALUE=DATE:20241206
DTEND;VALUE=DATE:20241207
DTSTAMP:20260425T212103
CREATED:20241016T124519Z
LAST-MODIFIED:20241016T124519Z
UID:9962-1733443200-1733529599@mountpleasantps.wa.edu.au
SUMMARY:Year 6 Graduation Ceremony
DESCRIPTION:
URL:https://mountpleasantps.wa.edu.au/calendar/year-6-graduation-ceremony/
END:VEVENT
BEGIN:VEVENT
DTSTART;VALUE=DATE:20241205
DTEND;VALUE=DATE:20241206
DTSTAMP:20260425T212103
CREATED:20241016T124446Z
LAST-MODIFIED:20241016T124446Z
UID:9960-1733356800-1733443199@mountpleasantps.wa.edu.au
SUMMARY:Book Awards Ceremony
DESCRIPTION:
URL:https://mountpleasantps.wa.edu.au/calendar/book-awards-ceremony/
END:VEVENT
BEGIN:VEVENT
DTSTART;VALUE=DATE:20241204
DTEND;VALUE=DATE:20241205
DTSTAMP:20260425T212103
CREATED:20241016T124416Z
LAST-MODIFIED:20241016T124416Z
UID:9958-1733270400-1733356799@mountpleasantps.wa.edu.au
SUMMARY:Kindy 1A and 2A Concert & Family Picnic 2.10pm
DESCRIPTION:
URL:https://mountpleasantps.wa.edu.au/calendar/kindy-1a-and-2a-concert-family-picnic-2-10pm/
END:VEVENT
BEGIN:VEVENT
DTSTART;VALUE=DATE:20241202
DTEND;VALUE=DATE:20241203
DTSTAMP:20260425T212103
CREATED:20241016T124347Z
LAST-MODIFIED:20241016T124347Z
UID:9956-1733097600-1733183999@mountpleasantps.wa.edu.au
SUMMARY:Applecross SHS Orientation Day Day 2
DESCRIPTION:
URL:https://mountpleasantps.wa.edu.au/calendar/applecross-shs-orientation-day-day-2/
END:VEVENT
BEGIN:VEVENT
DTSTART;VALUE=DATE:20241129
DTEND;VALUE=DATE:20241130
DTSTAMP:20260425T212103
CREATED:20241105T041703Z
LAST-MODIFIED:20241105T041703Z
UID:10042-1732838400-1732924799@mountpleasantps.wa.edu.au
SUMMARY:Kindergarten to Pre-Primary Transition Information Session
DESCRIPTION:
URL:https://mountpleasantps.wa.edu.au/calendar/kindergarten-to-pre-primary-transition-information-session/
END:VEVENT
BEGIN:VEVENT
DTSTART;VALUE=DATE:20241129
DTEND;VALUE=DATE:20241130
DTSTAMP:20260425T212103
CREATED:20241016T124258Z
LAST-MODIFIED:20241016T124258Z
UID:9952-1732838400-1732924799@mountpleasantps.wa.edu.au
SUMMARY:Junior Assembly Rooms 13 & 14
DESCRIPTION:
URL:https://mountpleasantps.wa.edu.au/calendar/junior-assembly-rooms-13-14/
END:VEVENT
BEGIN:VEVENT
DTSTART;VALUE=DATE:20241128
DTEND;VALUE=DATE:20241130
DTSTAMP:20260425T212103
CREATED:20241016T124223Z
LAST-MODIFIED:20241016T124236Z
UID:9950-1732752000-1732924799@mountpleasantps.wa.edu.au
SUMMARY:2025 Kindy Connect Sessions
DESCRIPTION:
URL:https://mountpleasantps.wa.edu.au/calendar/2025-kindy-connect-sessions-2/
END:VEVENT
BEGIN:VEVENT
DTSTART;VALUE=DATE:20241127
DTEND;VALUE=DATE:20241128
DTSTAMP:20260425T212103
CREATED:20241016T124157Z
LAST-MODIFIED:20241016T124157Z
UID:9948-1732665600-1732751999@mountpleasantps.wa.edu.au
SUMMARY:P&C AGM Staffroom
DESCRIPTION:
URL:https://mountpleasantps.wa.edu.au/calendar/pc-agm-staffroom/
END:VEVENT
BEGIN:VEVENT
DTSTART;VALUE=DATE:20241127
DTEND;VALUE=DATE:20241128
DTSTAMP:20260425T212103
CREATED:20241016T124136Z
LAST-MODIFIED:20241016T124136Z
UID:9946-1732665600-1732751999@mountpleasantps.wa.edu.au
SUMMARY:2025 Kindy Connect Sessions
DESCRIPTION:
URL:https://mountpleasantps.wa.edu.au/calendar/2025-kindy-connect-sessions/
END:VEVENT
BEGIN:VEVENT
DTSTART;VALUE=DATE:20241122
DTEND;VALUE=DATE:20241123
DTSTAMP:20260425T212103
CREATED:20241016T124324Z
LAST-MODIFIED:20241105T041632Z
UID:9954-1732233600-1732319999@mountpleasantps.wa.edu.au
SUMMARY:Applecross SHS Orientation Day Day 1
DESCRIPTION:
URL:https://mountpleasantps.wa.edu.au/calendar/applecross-shs-orientation-day-day-1/
END:VEVENT
BEGIN:VEVENT
DTSTART;VALUE=DATE:20241122
DTEND;VALUE=DATE:20241123
DTSTAMP:20260425T212103
CREATED:20241016T124114Z
LAST-MODIFIED:20241016T124114Z
UID:9944-1732233600-1732319999@mountpleasantps.wa.edu.au
SUMMARY:Years 3/4 Tennis Gala
DESCRIPTION:
URL:https://mountpleasantps.wa.edu.au/calendar/years-3-4-tennis-gala/
END:VEVENT
BEGIN:VEVENT
DTSTART;VALUE=DATE:20241118
DTEND;VALUE=DATE:20241119
DTSTAMP:20260425T212103
CREATED:20241016T124050Z
LAST-MODIFIED:20241016T124050Z
UID:9942-1731888000-1731974399@mountpleasantps.wa.edu.au
SUMMARY:School Board Meeting
DESCRIPTION:
URL:https://mountpleasantps.wa.edu.au/calendar/school-board-meeting/
END:VEVENT
BEGIN:VEVENT
DTSTART;VALUE=DATE:20241115
DTEND;VALUE=DATE:20241116
DTSTAMP:20260425T212103
CREATED:20241016T124030Z
LAST-MODIFIED:20241016T124030Z
UID:9940-1731628800-1731715199@mountpleasantps.wa.edu.au
SUMMARY:Junior assembly Room 3
DESCRIPTION:
URL:https://mountpleasantps.wa.edu.au/calendar/junior-assembly-room-3/
END:VEVENT
BEGIN:VEVENT
DTSTART;VALUE=DATE:20241114
DTEND;VALUE=DATE:20241115
DTSTAMP:20260425T212103
CREATED:20241016T124008Z
LAST-MODIFIED:20241016T124008Z
UID:9938-1731542400-1731628799@mountpleasantps.wa.edu.au
SUMMARY:Internet Awareness and Cyber Security Workshop
DESCRIPTION:
URL:https://mountpleasantps.wa.edu.au/calendar/internet-awareness-and-cyber-security-workshop/
END:VEVENT
BEGIN:VEVENT
DTSTART;TZID=Australia/Perth:20241113T140000
DTEND;TZID=Australia/Perth:20241113T150000
DTSTAMP:20260425T212103
CREATED:20241016T123943Z
LAST-MODIFIED:20241016T123943Z
UID:9936-1731506400-1731510000@mountpleasantps.wa.edu.au
SUMMARY:2025 Kindy Parent Information Sessions 2pm Library
DESCRIPTION:
URL:https://mountpleasantps.wa.edu.au/calendar/2025-kindy-parent-information-sessions-2pm-library/
END:VEVENT
END:VCALENDAR