BEGIN:VCALENDAR
VERSION:2.0
PRODID:-//Mount Pleasant Primary School - ECPv6.15.20//NONSGML v1.0//EN
CALSCALE:GREGORIAN
METHOD:PUBLISH
X-WR-CALNAME:Mount Pleasant Primary School
X-ORIGINAL-URL:https://mountpleasantps.wa.edu.au
X-WR-CALDESC:Events for Mount Pleasant Primary School
REFRESH-INTERVAL;VALUE=DURATION:PT1H
X-Robots-Tag:noindex
X-PUBLISHED-TTL:PT1H
BEGIN:VTIMEZONE
TZID:Australia/Perth
BEGIN:STANDARD
TZOFFSETFROM:+0800
TZOFFSETTO:+0800
TZNAME:AWST
DTSTART:20230101T000000
END:STANDARD
END:VTIMEZONE
BEGIN:VEVENT
DTSTART;VALUE=DATE:20250412
DTEND;VALUE=DATE:20250428
DTSTAMP:20260425T205400
CREATED:20250308T110835Z
LAST-MODIFIED:20250308T110835Z
UID:10168-1744416000-1745798399@mountpleasantps.wa.edu.au
SUMMARY:Term One Break
DESCRIPTION:
URL:https://mountpleasantps.wa.edu.au/calendar/term-one-break/
CATEGORIES:Term Breaks
END:VEVENT
BEGIN:VEVENT
DTSTART;VALUE=DATE:20241213
DTEND;VALUE=DATE:20250205
DTSTAMP:20260425T205400
CREATED:20250115T092017Z
LAST-MODIFIED:20250115T092017Z
UID:10058-1734048000-1738713599@mountpleasantps.wa.edu.au
SUMMARY:End of term 4 break 2024
DESCRIPTION:
URL:https://mountpleasantps.wa.edu.au/calendar/end-of-term-4-break-2024/
CATEGORIES:Term Breaks
END:VEVENT
END:VCALENDAR