BEGIN:VCALENDAR
VERSION:2.0
PRODID:-//Mount Pleasant Primary School - ECPv6.15.20//NONSGML v1.0//EN
CALSCALE:GREGORIAN
METHOD:PUBLISH
X-ORIGINAL-URL:https://mountpleasantps.wa.edu.au
X-WR-CALDESC:Events for Mount Pleasant Primary School
REFRESH-INTERVAL;VALUE=DURATION:PT1H
X-Robots-Tag:noindex
X-PUBLISHED-TTL:PT1H
BEGIN:VTIMEZONE
TZID:Australia/Perth
BEGIN:STANDARD
TZOFFSETFROM:+0800
TZOFFSETTO:+0800
TZNAME:AWST
DTSTART:20240101T000000
END:STANDARD
END:VTIMEZONE
BEGIN:VEVENT
DTSTART;VALUE=DATE:20250609
DTEND;VALUE=DATE:20250613
DTSTAMP:20260425T195611
CREATED:20250606T080509Z
LAST-MODIFIED:20250606T080509Z
UID:10236-1749427200-1749772799@mountpleasantps.wa.edu.au
SUMMARY:School Photos
DESCRIPTION:
URL:https://mountpleasantps.wa.edu.au/calendar/school-photos/
CATEGORIES:School Events
END:VEVENT
BEGIN:VEVENT
DTSTART;VALUE=DATE:20250606
DTEND;VALUE=DATE:20250607
DTSTAMP:20260425T195611
CREATED:20250606T080438Z
LAST-MODIFIED:20250606T080438Z
UID:10234-1749168000-1749254399@mountpleasantps.wa.edu.au
SUMMARY:Junior Assembly Room 8
DESCRIPTION:
URL:https://mountpleasantps.wa.edu.au/calendar/junior-assembly-room-8/
CATEGORIES:School Events
END:VEVENT
BEGIN:VEVENT
DTSTART;VALUE=DATE:20250411
DTEND;VALUE=DATE:20250412
DTSTAMP:20260425T195611
CREATED:20250308T110713Z
LAST-MODIFIED:20250308T110713Z
UID:10164-1744329600-1744415999@mountpleasantps.wa.edu.au
SUMMARY:Assembly Room 7
DESCRIPTION:
URL:https://mountpleasantps.wa.edu.au/calendar/assembly-room-7/
CATEGORIES:School Events
END:VEVENT
BEGIN:VEVENT
DTSTART;TZID=Australia/Perth:20250410T120000
DTEND;TZID=Australia/Perth:20250410T144000
DTSTAMP:20260425T195611
CREATED:20250308T110634Z
LAST-MODIFIED:20250308T110634Z
UID:10162-1744286400-1744296000@mountpleasantps.wa.edu.au
SUMMARY:MDISSA  Interschool Swimming
DESCRIPTION:
URL:https://mountpleasantps.wa.edu.au/calendar/mdissa-interschool-swimming/
CATEGORIES:School Events
END:VEVENT
BEGIN:VEVENT
DTSTART;VALUE=DATE:20250404
DTEND;VALUE=DATE:20250405
DTSTAMP:20260425T195611
CREATED:20250308T110556Z
LAST-MODIFIED:20250308T110556Z
UID:10160-1743724800-1743811199@mountpleasantps.wa.edu.au
SUMMARY:Yr 6 Cricket and Mod Crosse Carnival
DESCRIPTION:
URL:https://mountpleasantps.wa.edu.au/calendar/yr-6-cricket-and-mod-crosse-carnival/
CATEGORIES:School Events
END:VEVENT
BEGIN:VEVENT
DTSTART;TZID=Australia/Perth:20250328T100000
DTEND;TZID=Australia/Perth:20250328T142500
DTSTAMP:20260425T195611
CREATED:20250308T110525Z
LAST-MODIFIED:20250308T110525Z
UID:10158-1743156000-1743171900@mountpleasantps.wa.edu.au
SUMMARY:Swimming Carnival 3-6
DESCRIPTION:
URL:https://mountpleasantps.wa.edu.au/calendar/swimming-carnival-3-6/
CATEGORIES:School Events
END:VEVENT
BEGIN:VEVENT
DTSTART;TZID=Australia/Perth:20250326T190000
DTEND;TZID=Australia/Perth:20250326T200000
DTSTAMP:20260425T195612
CREATED:20250308T110446Z
LAST-MODIFIED:20250308T110446Z
UID:10156-1743015600-1743019200@mountpleasantps.wa.edu.au
SUMMARY:P&C Meeting 7pm staffroom
DESCRIPTION:
URL:https://mountpleasantps.wa.edu.au/calendar/pc-meeting-7pm-staffroom-2/
CATEGORIES:School Events
END:VEVENT
BEGIN:VEVENT
DTSTART;VALUE=DATE:20250321
DTEND;VALUE=DATE:20250322
DTSTAMP:20260425T195612
CREATED:20250308T110412Z
LAST-MODIFIED:20250308T110412Z
UID:10154-1742515200-1742601599@mountpleasantps.wa.edu.au
SUMMARY:Assembly Room 19
DESCRIPTION:
URL:https://mountpleasantps.wa.edu.au/calendar/assembly-room-19/
CATEGORIES:School Events
END:VEVENT
BEGIN:VEVENT
DTSTART;VALUE=DATE:20250314
DTEND;VALUE=DATE:20250315
DTSTAMP:20260425T195612
CREATED:20250308T110347Z
LAST-MODIFIED:20250308T110347Z
UID:10152-1741910400-1741996799@mountpleasantps.wa.edu.au
SUMMARY:P&C Movie Night
DESCRIPTION:
URL:https://mountpleasantps.wa.edu.au/calendar/pc-movie-night/
CATEGORIES:School Events
END:VEVENT
BEGIN:VEVENT
DTSTART;VALUE=DATE:20250312
DTEND;VALUE=DATE:20250322
DTSTAMP:20260425T195612
CREATED:20250308T110326Z
LAST-MODIFIED:20250308T110326Z
UID:10150-1741737600-1742601599@mountpleasantps.wa.edu.au
SUMMARY:NAPLAN starts 12-21 March
DESCRIPTION:
URL:https://mountpleasantps.wa.edu.au/calendar/naplan-starts-12-21-march/
CATEGORIES:School Events
END:VEVENT
BEGIN:VEVENT
DTSTART;VALUE=DATE:20250310
DTEND;VALUE=DATE:20250315
DTSTAMP:20260425T195612
CREATED:20250308T110253Z
LAST-MODIFIED:20250308T110253Z
UID:10148-1741564800-1741996799@mountpleasantps.wa.edu.au
SUMMARY:Yr 6 Beach Swimming Lessons
DESCRIPTION:
URL:https://mountpleasantps.wa.edu.au/calendar/yr-6-beach-swimming-lessons/
CATEGORIES:School Events
END:VEVENT
BEGIN:VEVENT
DTSTART;VALUE=DATE:20250307
DTEND;VALUE=DATE:20250308
DTSTAMP:20260425T195612
CREATED:20250308T110220Z
LAST-MODIFIED:20250308T110220Z
UID:10146-1741305600-1741391999@mountpleasantps.wa.edu.au
SUMMARY:Junior Assembly Room 9
DESCRIPTION:
URL:https://mountpleasantps.wa.edu.au/calendar/junior-assembly-room-9/
CATEGORIES:School Events
END:VEVENT
BEGIN:VEVENT
DTSTART;VALUE=DATE:20250304
DTEND;VALUE=DATE:20250308
DTSTAMP:20260425T195612
CREATED:20250308T110153Z
LAST-MODIFIED:20250308T110153Z
UID:10144-1741046400-1741391999@mountpleasantps.wa.edu.au
SUMMARY:Yr 5 Beach Swimming Lessons
DESCRIPTION:
URL:https://mountpleasantps.wa.edu.au/calendar/yr-5-beach-swimming-lessons/
CATEGORIES:School Events
END:VEVENT
BEGIN:VEVENT
DTSTART;TZID=Australia/Perth:20250226T190000
DTEND;TZID=Australia/Perth:20250226T200000
DTSTAMP:20260425T195612
CREATED:20250308T110050Z
LAST-MODIFIED:20250308T110050Z
UID:10140-1740596400-1740600000@mountpleasantps.wa.edu.au
SUMMARY:P&C Meeting 7pm staffroom
DESCRIPTION:
URL:https://mountpleasantps.wa.edu.au/calendar/pc-meeting-7pm-staffroom/
CATEGORIES:School Events
END:VEVENT
BEGIN:VEVENT
DTSTART;VALUE=DATE:20250221
DTEND;VALUE=DATE:20250222
DTSTAMP:20260425T195612
CREATED:20250308T110007Z
LAST-MODIFIED:20250308T110007Z
UID:10138-1740096000-1740182399@mountpleasantps.wa.edu.au
SUMMARY:Senior Assembly Room 18
DESCRIPTION:
URL:https://mountpleasantps.wa.edu.au/calendar/senior-assembly-room-18/
CATEGORIES:School Events
END:VEVENT
BEGIN:VEVENT
DTSTART;VALUE=DATE:20250219
DTEND;VALUE=DATE:20250220
DTSTAMP:20260425T195612
CREATED:20250308T105940Z
LAST-MODIFIED:20250308T105940Z
UID:10136-1739923200-1740009599@mountpleasantps.wa.edu.au
SUMMARY:Parent Open Afternoon
DESCRIPTION:
URL:https://mountpleasantps.wa.edu.au/calendar/parent-open-afternoon/
CATEGORIES:School Events
END:VEVENT
BEGIN:VEVENT
DTSTART;VALUE=DATE:20250214
DTEND;VALUE=DATE:20250215
DTSTAMP:20260425T195612
CREATED:20250308T105910Z
LAST-MODIFIED:20250308T105910Z
UID:10134-1739491200-1739577599@mountpleasantps.wa.edu.au
SUMMARY:Music Incursion Year 3-6
DESCRIPTION:
URL:https://mountpleasantps.wa.edu.au/calendar/music-incursion-year-3-6/
CATEGORIES:School Events
END:VEVENT
END:VCALENDAR